BEGIN:VCALENDAR
PRODID:-//Microsoft Corporation//Outlook MIMEDIR//EN
VERSION:2.0
METHOD:PUBLISH
BEGIN:VEVENT
DTSTART:20260420T170000
DTEND:20260420T180000
DESCRIPTION:Notice of Possible Quorum
LOCATION:Seguin Coliseum, 950 S. Austin
SUMMARY:Commission on the Arts
CATEGORIES:MEETING
END:VEVENT
END:VCALENDAR
