BEGIN:VCALENDAR
PRODID:-//Microsoft Corporation//Outlook MIMEDIR//EN
VERSION:2.0
METHOD:PUBLISH
BEGIN:VEVENT
DTSTART:20260420T170000
DTEND:20260420T180000
DESCRIPTION:Notice of Possible Quorum
LOCATION:Seguin Coliseum, 950 S. Austin
SUMMARY:Starcke Park Golf Course Advisory Board
CATEGORIES:MEETING
END:VEVENT
END:VCALENDAR
