BEGIN:VCALENDAR
PRODID:-//Microsoft Corporation//Outlook MIMEDIR//EN
VERSION:2.0
METHOD:PUBLISH
BEGIN:VEVENT
DTSTART:20260427T120000
DTEND:20260427T130000
DESCRIPTION:Public
LOCATION:555 Fred Byrd Drive
SUMMARY:Seguin Animal Services Advisory Committee
CATEGORIES:MEETING
END:VEVENT
END:VCALENDAR
