BEGIN:VCALENDAR
PRODID:-//Microsoft Corporation//Outlook MIMEDIR//EN
VERSION:2.0
METHOD:PUBLISH
BEGIN:VEVENT
DTSTART:20260430T120000
DTEND:20260430T130000
DESCRIPTION:Public
LOCATION:Seguin City Council Chambers
SUMMARY:Seguin Economic Development Corporation
CATEGORIES:MEETING
END:VEVENT
END:VCALENDAR
