BEGIN:VCALENDAR
PRODID:-//Microsoft Corporation//Outlook MIMEDIR//EN
VERSION:2.0
METHOD:PUBLISH
BEGIN:VEVENT
DTSTART:20260423T090000
DTEND:20260423T100000
DESCRIPTION:Notice of Possible Quorum
LOCATION:Patricia K Irvine Pavillion, 1412 River Dr. E
SUMMARY:City Council
CATEGORIES:MEETING
END:VEVENT
END:VCALENDAR
