BEGIN:VCALENDAR
PRODID:-//Microsoft Corporation//Outlook MIMEDIR//EN
VERSION:2.0
METHOD:PUBLISH
BEGIN:VEVENT
DTSTART:20260423T090000
DTEND:20260423T100000
DESCRIPTION:Notice of Possible Quorum
LOCATION:Seguin Library, 313 W. Nolte St.
SUMMARY:Main Street Advisory Board
CATEGORIES:MEETING
END:VEVENT
END:VCALENDAR
